BEGIN:VCALENDAR
VERSION:2.0
PRODID:SchoolNow
CALSCALE:GREGORIAN
BEGIN:VEVENT
UID:b426c1b2-2d88-11ef-8c06-0a58a9feac02
DTSTAMP:20240618T164109Z
SUMMARY:Short-Term Programs Information Session
LOCATION:SoLAcc Lafayette campus (1101 Bertrand Dr.) Ardoin Building\, Room
  102
URL;VALUE=URI:https://www.solacc.edu/about-us/calendar/6139380/short-term-p
 rograms-information-session
DTSTART:20240709T200000Z
DTEND:20240709T210000Z
END:VEVENT
END:VCALENDAR
