BEGIN:VCALENDAR
VERSION:2.0
PRODID:SchoolNow
CALSCALE:GREGORIAN
BEGIN:VEVENT
UID:514a605e-2cd8-11ef-867a-02d9f02858d1
DTSTAMP:20240617T200606Z
SUMMARY:Adult Education Open Registration
LOCATION:Devalcourt Auditorium\, Lafayette Campus\, 320 Devalcourt Street
URL;VALUE=URI:https://www.solacc.edu/about-us/calendar/6134762/adult-educat
 ion-open-registration
DTSTART:20240710T140000Z
DTEND:20240710T200000Z
END:VEVENT
END:VCALENDAR
