BEGIN:VCALENDAR
VERSION:2.0
PRODID:SchoolNow
CALSCALE:GREGORIAN
BEGIN:VEVENT
UID:f8a96522-2ccc-11ef-8bcf-0a58a9feac02
DTSTAMP:20240617T171352Z
SUMMARY:Graduation Application due for Summer
URL;VALUE=URI:https://www.solacc.edu/about-us/calendar/6134739/graduation-a
 pplication-due-for-summer
DTSTART:20240701T171100Z
DTEND:20240701T181100Z
END:VEVENT
END:VCALENDAR
