BEGIN:VCALENDAR
VERSION:2.0
PRODID:SchoolNow
CALSCALE:GREGORIAN
BEGIN:VEVENT
UID:bb609c16-283b-11ef-942a-0ec753e36711
DTSTAMP:20240716T184009Z
SUMMARY:FAFSA Frenzy - Lafayette #2
LOCATION:Lafayette Campus (Academic Success Center\, Ardoin Building)
URL;VALUE=URI:https://www.solacc.edu/about-us/calendar/6109622/fafsa-frenzy
 -lafayette-2
DTSTART:20240828T160000Z
DTEND:20240828T180000Z
END:VEVENT
END:VCALENDAR
