BEGIN:VCALENDAR
VERSION:2.0
PRODID:SchoolNow
CALSCALE:GREGORIAN
BEGIN:VEVENT
UID:a25fee56-283b-11ef-823e-0a58a9feac02
DTSTAMP:20240612T180229Z
SUMMARY:FAFSA Frenzy - Opelousas
LOCATION:Opelousas Campus (Room B116)
URL;VALUE=URI:https://www.solacc.edu/about-us/calendar/6109621/fafsa-frenzy
 -opelousas
DTSTART:20240717T160000Z
DTEND:20240717T180000Z
END:VEVENT
END:VCALENDAR
