BEGIN:VCALENDAR
VERSION:2.0
PRODID:SchoolNow
CALSCALE:GREGORIAN
BEGIN:VEVENT
UID:73896292-283b-11ef-b209-0a58a9feac02
DTSTAMP:20240612T175946Z
SUMMARY:FAFSA Frenzy - Lafayette
LOCATION:Lafayette Campus (Mobile Unit\, Parking Lot F)
URL;VALUE=URI:https://www.solacc.edu/about-us/calendar/6109620/fafsa-frenzy
 -lafayette
DTSTART:20240619T160000Z
DTEND:20240619T180000Z
END:VEVENT
END:VCALENDAR
