BEGIN:VCALENDAR
VERSION:2.0
PRODID:SchoolNow
CALSCALE:GREGORIAN
BEGIN:VEVENT
UID:355509ce-2802-11ef-b8e9-02e09b97ddb7
DTSTAMP:20240611T145222Z
SUMMARY:Everyone Communicates\, But Few Connect: Effectively Engaging Today
 's Learner (NISOD Workshop)
LOCATION:SoLAcc Devalcourt Auditorium
URL;VALUE=URI:https://www.solacc.edu/about-us/calendar/6108141/everyone-com
 municates-but-few-connect-effectively-engaging-todays-learner-nisod-worksh
 op
DTSTART:20240913T150000Z
DTEND:20240913T193000Z
ATTACH;FILENAME=NISOD Regional Workshop.png;FMTTYPE=image/png:https://campu
 ssuite-storage.s3.amazonaws.com/prod/1558538/0d9d10fa-02cc-11e8-8e76-12c99
 8a55b1c/2805776/ffea6464-2801-11ef-ac26-0a58a9feac02/file/NISOD Regional W
 orkshop.png
END:VEVENT
END:VCALENDAR
