BEGIN:VCALENDAR
VERSION:2.0
PRODID:SchoolNow
CALSCALE:GREGORIAN
BEGIN:VEVENT
UID:c45a4bb0-1f57-11ef-852b-0a58a9feac02
DTSTAMP:20240716T193537Z
SUMMARY:Industrial Trades Job Fair
LOCATION:Lafayette Campus Devalcourt Auditorium (320 Devalcourt St.\, Lafa
 yette)
URL;VALUE=URI:https://www.solacc.edu/about-us/calendar/6056982/industrial-t
 rades-job-fair
DTSTART:20240813T140000Z
DTEND:20240813T170000Z
END:VEVENT
END:VCALENDAR
