BEGIN:VCALENDAR
VERSION:2.0
PRODID:SchoolNow
CALSCALE:GREGORIAN
BEGIN:VEVENT
UID:1bbd6320-1f57-11ef-9ace-024751543bc7
DTSTAMP:20240709T072855Z
SUMMARY:BITS & STEM Summer Career Fair
LOCATION:SoLAcc - Lafayette Campus\, Devalcourt Auditorium (320 Devalcourt 
 St.\, Lafayette)
URL;VALUE=URI:https://www.solacc.edu/about-us/calendar/6056981/stem-summer-
 career-fair
DTSTART:20240619T140000Z
DTEND:20240619T170000Z
END:VEVENT
END:VCALENDAR
