BEGIN:VCALENDAR
VERSION:2.0
PRODID:SchoolNow
CALSCALE:GREGORIAN
BEGIN:VEVENT
UID:1a806214-1d3b-11ef-be96-0afff6be1d95
DTSTAMP:20240528T214216Z
SUMMARY:UL Transfer Visit
LOCATION:Lafayette Campus (1101 Bertrand Dr.) - Ardoin Building Rm. 107
URL;VALUE=URI:https://www.solacc.edu/about-us/calendar/6042573/ul-transfer-
 visit
DTSTART:20240801T140000Z
DTEND:20240801T170000Z
END:VEVENT
END:VCALENDAR
