BEGIN:VCALENDAR
VERSION:2.0
PRODID:SchoolNow
CALSCALE:GREGORIAN
BEGIN:VEVENT
UID:0ef555f8-1d3b-11ef-aa3c-0294f4cad52f
DTSTAMP:20240528T214136Z
SUMMARY:UL Transfer Visit
LOCATION:Lafayette Campus (1101 Bertrand Dr.) - Ardoin Building Rm. 107
URL;VALUE=URI:https://www.solacc.edu/about-us/calendar/6042572/ul-transfer-
 visit
DTSTART:20240715T140000Z
DTEND:20240715T170000Z
END:VEVENT
END:VCALENDAR
