BEGIN:VCALENDAR
VERSION:2.0
PRODID:SchoolNow
CALSCALE:GREGORIAN
BEGIN:VEVENT
UID:fa210654-1d3a-11ef-8e2c-0a58a9feac02
DTSTAMP:20240528T214101Z
SUMMARY:UL Transfer Visit
LOCATION:Lafayette Campus (1101 Bertrand Dr.) - Ardoin Building Rm. 107
URL;VALUE=URI:https://www.solacc.edu/about-us/calendar/6042571/ul-transfer-
 visit
DTSTART:20240702T140000Z
DTEND:20240702T170000Z
END:VEVENT
END:VCALENDAR
