BEGIN:VCALENDAR
VERSION:2.0
PRODID:SchoolNow
CALSCALE:GREGORIAN
BEGIN:VEVENT
UID:e7699d5a-1d3a-11ef-85a4-0affed4507d3
DTSTAMP:20240528T214029Z
SUMMARY:UL Transfer Visit
LOCATION:Lafayette Campus (1101 Bertrand Dr.) - Ardoin Building Rm. 107
URL;VALUE=URI:https://www.solacc.edu/about-us/calendar/6042570/ul-transfer-
 visit
DTSTART:20240604T140000Z
DTEND:20240604T170000Z
END:VEVENT
END:VCALENDAR
