BEGIN:VCALENDAR
VERSION:2.0
PRODID:SchoolNow
CALSCALE:GREGORIAN
BEGIN:VEVENT
UID:e1b72202-f1d8-11ee-bf92-0affc4084d4d
DTSTAMP:20240403T164029Z
SUMMARY:Spring 2024 Graduation
LOCATION:CAJUNDOME\, Lafayette\, LA
URL;VALUE=URI:https://www.solacc.edu/about-us/calendar/5699362/spring-2024-
 graduation
DTSTART:20240515T150000Z
DTEND:20240515T170000Z
END:VEVENT
END:VCALENDAR
