BEGIN:VCALENDAR
VERSION:2.0
PRODID:SchoolNow
CALSCALE:GREGORIAN
BEGIN:VEVENT
UID:e227a25a-ec62-11ee-b029-0a58a9feac02
DTSTAMP:20240327T175339Z
SUMMARY:UL Transfer Visit Day
LOCATION:Lafayette Campus (1101 Bertrand Dr.) - Ardoin Building Rm. 107
URL;VALUE=URI:https://www.solacc.edu/about-us/calendar/5645280/ul-transfer-
 visit-day
DTSTART:20240417T140000Z
DTEND:20240417T170000Z
END:VEVENT
END:VCALENDAR
