BEGIN:VCALENDAR
VERSION:2.0
PRODID:SchoolNow
CALSCALE:GREGORIAN
BEGIN:VEVENT
UID:3840a89a-e6d6-11ee-8580-029e918b9ecf
DTSTAMP:20240320T165216Z
SUMMARY:CC Week: Crowley Campus Showcase
LOCATION:SLCC - Acadian Campus (1933 W. Hutchinson Ave.\, Crowley)
URL;VALUE=URI:https://www.solacc.edu/about-us/calendar/5590667/crowley-camp
 us-showcase
DTSTART:20240402T170000Z
DTEND:20240402T200000Z
END:VEVENT
END:VCALENDAR
