BEGIN:VCALENDAR
VERSION:2.0
PRODID:SchoolNow
CALSCALE:GREGORIAN
BEGIN:VEVENT
UID:4fd5cea2-e309-11ee-a545-0afff9edf981
DTSTAMP:20240315T201922Z
SUMMARY:Solar Eclipse Viewing
LOCATION:Lafayette Campus (1101 Bertrand Dr.) - Health & Science building c
 ourtyard towards the coulee
URL;VALUE=URI:https://www.solacc.edu/about-us/calendar/5553125/solar-eclips
 e-viewing
DTSTART:20240408T180000Z
DTEND:20240408T190000Z
END:VEVENT
END:VCALENDAR
