BEGIN:VCALENDAR
VERSION:2.0
PRODID:SchoolNow
CALSCALE:GREGORIAN
BEGIN:VEVENT
UID:4d1ef72e-e2d7-11ee-9360-0a58a9feac02
DTSTAMP:20240315T142123Z
SUMMARY:UL Transfer Visit Day
LOCATION:Lafayette Campus (1101 Bertrand Dr.) - Ardoin Building Rm. 107
URL;VALUE=URI:https://www.solacc.edu/about-us/calendar/5551003/ul-transfer-
 visit-day-clone
DTSTART:20240404T140000Z
DTEND:20240404T170000Z
END:VEVENT
END:VCALENDAR
