BEGIN:VCALENDAR
VERSION:2.0
PRODID:SchoolNow
CALSCALE:GREGORIAN
BEGIN:VEVENT
UID:9b1981d0-dcb3-11ee-a7ca-0affe907dcef
DTSTAMP:20240308T145933Z
SUMMARY:UL Transfer Visit Day
LOCATION:Lafayette Campus (1101 Bertrand Dr.) - Ardoin Building Rm. 107
URL;VALUE=URI:https://www.solacc.edu/about-us/calendar/5488885/ul-transfer-
 visit-day
DTSTART:20240318T140000Z
DTEND:20240318T170000Z
END:VEVENT
END:VCALENDAR
