BEGIN:VCALENDAR
VERSION:2.0
PRODID:SchoolNow
CALSCALE:GREGORIAN
BEGIN:VEVENT
UID:4bb6a606-dc98-11ee-897d-0a58a9feac02
DTSTAMP:20240307T153515Z
SUMMARY:Fall 2024 Priority Registration
URL;VALUE=URI:https://www.solacc.edu/about-us/calendar/5486924/fall-2024-pr
 iority-registration
DTSTART;VALUE=DATE:20240312
DTEND;VALUE=DATE:20240318
END:VEVENT
END:VCALENDAR
