BEGIN:VCALENDAR
VERSION:2.0
PRODID:SchoolNow
CALSCALE:GREGORIAN
BEGIN:VEVENT
UID:05173ae6-d5b6-11ee-ba62-0a58a9feac02
DTSTAMP:20240229T154303Z
SUMMARY:Spring Transfer Fair
LOCATION:Lafayette Campus - Devalcourt Lobby
URL;VALUE=URI:https://www.solacc.edu/about-us/calendar/5418082/spring-trans
 fer-fair
DTSTART:20240304T160000Z
DTEND:20240304T180000Z
END:VEVENT
END:VCALENDAR
