BEGIN:VCALENDAR
VERSION:2.0
PRODID:SchoolNow
CALSCALE:GREGORIAN
BEGIN:VEVENT
UID:868eaede-d4f2-11ee-ad8b-0a58a9feac02
DTSTAMP:20240226T220059Z
SUMMARY:Short-Term Courses Information Session
LOCATION:SLCC Lafayette campus (1101 Bertrand Dr.) Ardoin Building\, Room 1
 02
URL;VALUE=URI:https://www.solacc.edu/about-us/calendar/5410915/short-term-c
 ourses-information-session
DTSTART:20240308T210000Z
DTEND:20240308T220000Z
END:VEVENT
END:VCALENDAR
