BEGIN:VCALENDAR
VERSION:2.0
PRODID:SchoolNow
CALSCALE:GREGORIAN
BEGIN:VEVENT
UID:69af68c2-d1a9-11ee-9137-02ca6f9cc6f7
DTSTAMP:20240222T174232Z
SUMMARY:Abbeville (Gulf Area) Campus Career Fair
LOCATION:SLCC - Gulf Area Campus (1115 Clover St.\, Abbeville)
URL;VALUE=URI:https://www.solacc.edu/about-us/calendar/5382445/abbeville-ca
 mpus-career-fair
DTSTART:20240313T140000Z
DTEND:20240313T170000Z
END:VEVENT
END:VCALENDAR
