BEGIN:VCALENDAR
VERSION:2.0
PRODID:SchoolNow
CALSCALE:GREGORIAN
BEGIN:VEVENT
UID:8af9ba7e-d1a8-11ee-b769-0efe317fcd43
DTSTAMP:20240227T203723Z
SUMMARY:Crowley (Acadian) Campus Healthcare Career Fair
LOCATION:SLCC - Acadian Campus (1933 W. Hutchinson Ave.\, Crowley)
URL;VALUE=URI:https://www.solacc.edu/about-us/calendar/5382444/crowley-camp
 us-career-fair
DTSTART:20240305T160000Z
DTEND:20240305T180000Z
END:VEVENT
END:VCALENDAR
