BEGIN:VCALENDAR
VERSION:2.0
PRODID:SchoolNow
CALSCALE:GREGORIAN
BEGIN:VEVENT
UID:f5f64ccc-d0e3-11ee-839a-0a58a9feac02
DTSTAMP:20240221T180639Z
SUMMARY:Resume Workshop
LOCATION:Lafayette Campus (1101 Bertrand Dr.) - Ardoin Building Rm. 107
URL;VALUE=URI:https://www.solacc.edu/about-us/calendar/5375106/resume-works
 hop
DTSTART:20240501T190000Z
DTEND:20240501T200000Z
END:VEVENT
END:VCALENDAR
