BEGIN:VCALENDAR
VERSION:2.0
PRODID:SchoolNow
CALSCALE:GREGORIAN
BEGIN:VEVENT
UID:b70c647e-d0e3-11ee-a22e-0a58a9feac02
DTSTAMP:20240221T180757Z
SUMMARY:Resume Workshop (Virtual)
LOCATION:Online - preregister to get the link
URL;VALUE=URI:https://www.solacc.edu/about-us/calendar/5375105/resume-works
 hop
DTSTART:20240415T180000Z
DTEND:20240415T190000Z
END:VEVENT
END:VCALENDAR
