BEGIN:VCALENDAR
VERSION:2.0
PRODID:SchoolNow
CALSCALE:GREGORIAN
BEGIN:VEVENT
UID:2359364e-d0e3-11ee-90c9-0a58a9feac02
DTSTAMP:20240221T180312Z
SUMMARY:Resume Workshop
LOCATION:Lafayette Campus (1101 Bertrand Dr.) - Ardoin Building Rm. 107
URL;VALUE=URI:https://www.solacc.edu/about-us/calendar/5375104/resume-works
 hop
DTSTART:20240312T053000Z
DTEND:20240312T183000Z
END:VEVENT
END:VCALENDAR
