BEGIN:VCALENDAR
VERSION:2.0
PRODID:SchoolNow
CALSCALE:GREGORIAN
BEGIN:VEVENT
UID:0b3fceb0-d0e3-11ee-a1a3-0a58a9feac02
DTSTAMP:20240221T180715Z
SUMMARY:Resume Workshop
LOCATION:Lafayette Campus (1101 Bertrand Dr.) - Ardoin Building Rm. 107
URL;VALUE=URI:https://www.solacc.edu/about-us/calendar/5375098/resume-works
 hop
DTSTART:20240229T170000Z
DTEND:20240229T180000Z
END:VEVENT
END:VCALENDAR
