BEGIN:VCALENDAR
VERSION:2.0
PRODID:SchoolNow
CALSCALE:GREGORIAN
BEGIN:VEVENT
UID:513d9d92-cf5e-11ee-9597-0ad45d26e805
DTSTAMP:20240219T194610Z
SUMMARY:Industrial Trades Job Fair
LOCATION:New Iberia Campus (908 Ember Dr.\, New Iberia)
URL;VALUE=URI:https://www.solacc.edu/about-us/calendar/5361888/industrial-t
 rades-job-fair
DTSTART:20240321T200000Z
DTEND:20240321T230000Z
END:VEVENT
END:VCALENDAR
