BEGIN:VCALENDAR
VERSION:2.0
PRODID:SchoolNow
CALSCALE:GREGORIAN
BEGIN:VEVENT
UID:a4d2af74-cb62-11ee-bf99-0a58a9feac02
DTSTAMP:20240214T175822Z
SUMMARY:Spring Scholarship Reception
LOCATION:Lafayette Campus\, Devalcourt Auditorium - 320 Devalcourt St.\, La
 fayette\, LA
URL;VALUE=URI:https://www.solacc.edu/about-us/calendar/5328523/spring-schol
 arship-reception
DTSTART:20240306T210000Z
DTEND:20240306T223000Z
END:VEVENT
END:VCALENDAR
