BEGIN:VCALENDAR
VERSION:2.0
PRODID:SchoolNow
CALSCALE:GREGORIAN
BEGIN:VEVENT
UID:dd0ec9f0-c792-11ee-be9c-0a58a9feac02
DTSTAMP:20240209T213704Z
SUMMARY:UL Transfer Visit Day
LOCATION:Lafayette Campus (1101 Bertrand Dr.) - Ardoin Building Rm. 107
URL;VALUE=URI:https://www.solacc.edu/about-us/calendar/5296136/ul-transfer-
 visit-day
DTSTART:20240219T150000Z
DTEND:20240219T180000Z
END:VEVENT
END:VCALENDAR
