BEGIN:VCALENDAR
VERSION:2.0
PRODID:SchoolNow
CALSCALE:GREGORIAN
BEGIN:VEVENT
UID:b1c6caa4-c76a-11ee-aa6a-0a81a6e4196f
DTSTAMP:20240209T164555Z
SUMMARY:Medical Lab Science Information Session #3
LOCATION:Webex - Online
URL;VALUE=URI:https://www.solacc.edu/about-us/calendar/5293244/medical-lab-
 science-information-session
DTSTART:20240516T180000Z
DTEND:20240516T194500Z
END:VEVENT
END:VCALENDAR
