BEGIN:VCALENDAR
VERSION:2.0
PRODID:SchoolNow
CALSCALE:GREGORIAN
BEGIN:VEVENT
UID:8c617ef8-c76a-11ee-884b-0aa57c70b19f
DTSTAMP:20240209T164453Z
SUMMARY:Medical Lab Science Information Session #2
LOCATION:Webex - Online
URL;VALUE=URI:https://www.solacc.edu/about-us/calendar/5293243/medical-lab-
 science-information-session
DTSTART:20240415T180000Z
DTEND:20240415T194500Z
END:VEVENT
END:VCALENDAR
