BEGIN:VCALENDAR
VERSION:2.0
PRODID:SchoolNow
CALSCALE:GREGORIAN
BEGIN:VEVENT
UID:53a03e42-c76a-11ee-a46c-0a58a9feac02
DTSTAMP:20240209T164317Z
SUMMARY:Medical Lab Science Information Session #1
LOCATION:Webex - Online
URL;VALUE=URI:https://www.solacc.edu/about-us/calendar/5293242/medical-lab-
 science-information-session
DTSTART:20240304T190000Z
DTEND:20240304T204500Z
END:VEVENT
END:VCALENDAR
