BEGIN:VCALENDAR
VERSION:2.0
PRODID:SchoolNow
CALSCALE:GREGORIAN
BEGIN:VEVENT
UID:2f4090aa-c14e-11ee-b497-02ddb0fb0fa7
DTSTAMP:20240320T160756Z
SUMMARY:Student Showcase
LOCATION:Lafayette Campus - Devalcourt Front Lobby and Auditorium
URL;VALUE=URI:https://www.solacc.edu/about-us/calendar/5241991/student-show
 case
DTSTART:20240403T150000Z
DTEND:20240403T180000Z
END:VEVENT
END:VCALENDAR
