BEGIN:VCALENDAR
VERSION:2.0
PRODID:SchoolNow
CALSCALE:GREGORIAN
BEGIN:VEVENT
UID:31725b76-afe5-11ee-8a15-0a58a9feac02
DTSTAMP:20240123T161629Z
SUMMARY:General Studies Forum
LOCATION:Lafayette Campus - Devalcourt Auditorium or WebEx
URL;VALUE=URI:https://www.solacc.edu/about-us/calendar/5135705/general-stud
 ies-forum
DTSTART:20240131T190000Z
DTEND:20240131T200000Z
END:VEVENT
END:VCALENDAR
