BEGIN:VCALENDAR
VERSION:2.0
PRODID:SchoolNow
CALSCALE:GREGORIAN
BEGIN:VEVENT
UID:874714ac-9b62-11ee-85af-0ace6469e077
DTSTAMP:20231220T172335Z
SUMMARY:LPN to RN Track Info Session
LOCATION:Virtual - Microsoft Teams
URL;VALUE=URI:https://www.solacc.edu/about-us/calendar/5007066/lpn-to-rn-in
 fo-session
DTSTART:20240108T200000Z
DTEND:20240108T210000Z
END:VEVENT
END:VCALENDAR
