BEGIN:VCALENDAR
VERSION:2.0
PRODID:SchoolNow
CALSCALE:GREGORIAN
BEGIN:VEVENT
UID:331ea830-9519-11ee-9713-020a09581de3
DTSTAMP:20240320T161050Z
SUMMARY:CC Week: Spring Preview Day
LOCATION:Devalcourt Auditorium & Library Computer Lab D123\, Lafayette Camp
 us\, 320 Devalcourt Street
URL;VALUE=URI:https://www.solacc.edu/about-us/calendar/4986869/cc-week-spri
 ng-preview-day
DTSTART:20240403T133000Z
DTEND:20240403T183000Z
END:VEVENT
END:VCALENDAR
