BEGIN:VCALENDAR
VERSION:2.0
PRODID:SchoolNow
CALSCALE:GREGORIAN
BEGIN:VEVENT
UID:680e717a-8406-11ee-a84c-02dd98d3b81f
DTSTAMP:20240116T211310Z
SUMMARY:SLCC Hiring Event
LOCATION:Lafayette Campus\, Devalcourt Auditorium - 320 Devalcourt St\, Laf
 ayette\, LA 70506
URL;VALUE=URI:https://www.solacc.edu/about-us/calendar/4950135/slcc-hiring-
 event
DTSTART:20240201T220000Z
DTEND:20240202T000000Z
END:VEVENT
END:VCALENDAR
