BEGIN:VCALENDAR
VERSION:2.0
PRODID:SchoolNow
CALSCALE:GREGORIAN
BEGIN:VEVENT
UID:55c93698-7f48-11ee-941c-02d53fa3e045
DTSTAMP:20231211T180053Z
SUMMARY:Fall 2023 Graduation
LOCATION:CAJUNDOME\, Lafayette\, LA
URL;VALUE=URI:https://www.solacc.edu/about-us/calendar/4937639/fall-2022-gr
 aduation-clone
DTSTART:20231214T160000Z
DTEND:20231214T180000Z
END:VEVENT
END:VCALENDAR
