BEGIN:VCALENDAR
VERSION:2.0
PRODID:SchoolNow
CALSCALE:GREGORIAN
BEGIN:VEVENT
UID:60f7da6e-7e68-11ee-9309-0a58a9feac02
DTSTAMP:20231108T185814Z
SUMMARY:Practical Nursing Pinning Ceremony
LOCATION:Lafayette Campus - Health & Sciences Auditorium\, 1101 Bertrand Dr
 .
URL;VALUE=URI:https://www.solacc.edu/about-us/calendar/4935707/practical-nu
 rsing-pinning-ceremony
DTSTART:20231213T200000Z
DTEND:20231213T213000Z
END:VEVENT
END:VCALENDAR
