BEGIN:VCALENDAR
VERSION:2.0
PRODID:SchoolNow
CALSCALE:GREGORIAN
BEGIN:VEVENT
UID:ba2c8fe4-7751-11ee-ad0a-0a58a9feac02
DTSTAMP:20231030T183623Z
SUMMARY:T.H. Harris Home Health Lab Ribbon Cutting
LOCATION:T.H. Harris Campus - 332 East South St. in Opelousas
URL;VALUE=URI:https://www.solacc.edu/about-us/calendar/4912238/th-harris-ho
 me-health-lab-ribbon-cutting
DTSTART:20231107T150000Z
DTEND:20231107T160000Z
END:VEVENT
END:VCALENDAR
