BEGIN:VCALENDAR
VERSION:2.0
PRODID:SchoolNow
CALSCALE:GREGORIAN
BEGIN:VEVENT
UID:1f288af0-7294-11ee-9919-021e318a3333
DTSTAMP:20231024T180342Z
SUMMARY:PN Night & Weekend Classes Info Session
LOCATION:Virtual - Microsoft Teams
URL;VALUE=URI:https://www.solacc.edu/about-us/calendar/4895712/pn-night-wee
 kend-classes-info-session
DTSTART:20231030T223000Z
DTEND:20231030T233000Z
END:VEVENT
END:VCALENDAR
