BEGIN:VCALENDAR
VERSION:2.0
PRODID:SchoolNow
CALSCALE:GREGORIAN
BEGIN:VEVENT
UID:4401420a-6f69-11ee-95e8-0eb78d70b473
DTSTAMP:20231020T214044Z
SUMMARY:Voter Education Forum
LOCATION:Lafayette Campus - Health and Sciences Building Auditorium (1101 B
 ertrand Dr.)
URL;VALUE=URI:https://www.solacc.edu/about-us/calendar/4884450/voter-educat
 ion-forum
DTSTART:20231026T223000Z
DTEND:20231027T000000Z
END:VEVENT
END:VCALENDAR
