BEGIN:VCALENDAR
VERSION:2.0
PRODID:SchoolNow
CALSCALE:GREGORIAN
BEGIN:VEVENT
UID:29d1c464-6928-11ee-8cc8-0a1c19b8d8a7
DTSTAMP:20231012T181339Z
SUMMARY:Fall Festival
LOCATION:Lafayette Campus - 1101 Bertrand Drive
URL;VALUE=URI:https://www.solacc.edu/about-us/calendar/4858748/fall-festiva
 l
DTSTART:20231102T220000Z
DTEND:20231103T000000Z
END:VEVENT
END:VCALENDAR
