BEGIN:VCALENDAR
VERSION:2.0
PRODID:SchoolNow
CALSCALE:GREGORIAN
BEGIN:VEVENT
UID:1d502b78-63c3-11ee-ab05-0a58a9feac02
DTSTAMP:20231005T210847Z
SUMMARY:Spring & Summer 2024 Priority Registration
URL;VALUE=URI:https://www.solacc.edu/about-us/calendar/4835526/spring-summe
 r-2024-priority-registration
DTSTART;VALUE=DATE:20231010
DTEND;VALUE=DATE:20231017
END:VEVENT
END:VCALENDAR
