BEGIN:VCALENDAR
VERSION:2.0
PRODID:SchoolNow
CALSCALE:GREGORIAN
BEGIN:VEVENT
UID:8338e4a4-6218-11ee-8f63-0a58a9feac02
DTSTAMP:20231003T192719Z
SUMMARY:PN Night & Weekend Classes Info Session
LOCATION:Virtual - Microsoft Teams
URL;VALUE=URI:https://www.solacc.edu/about-us/calendar/4826273/pn-night-wee
 kend-classes-info-session
DTSTART:20231009T223000Z
DTEND:20231009T233000Z
END:VEVENT
END:VCALENDAR
