BEGIN:VCALENDAR
VERSION:2.0
PRODID:SchoolNow
CALSCALE:GREGORIAN
BEGIN:VEVENT
UID:0a5026ac-6145-11ee-b292-0e21c6c8db91
DTSTAMP:20231002T170456Z
SUMMARY:Spring 2024 Scholarship Applications
URL;VALUE=URI:https://www.solacc.edu/about-us/calendar/4821374/spring-2024-
 scholarship-applications
DTSTART;VALUE=DATE:20231001
DTEND;VALUE=DATE:20231116
END:VEVENT
END:VCALENDAR
