BEGIN:VCALENDAR
VERSION:2.0
PRODID:SchoolNow
CALSCALE:GREGORIAN
BEGIN:VEVENT
UID:5e23b6e2-5efa-11ee-be21-0a8fc331ecd9
DTSTAMP:20230929T190458Z
SUMMARY:PAW Pre-Advising Week Virtual Session
LOCATION:WEBEX
URL;VALUE=URI:https://www.solacc.edu/about-us/calendar/4811684/pre-advising
 -week-virtual
DTSTART:20231005T170000Z
DTEND:20231005T190000Z
END:VEVENT
END:VCALENDAR
