BEGIN:VCALENDAR
VERSION:2.0
PRODID:SchoolNow
CALSCALE:GREGORIAN
BEGIN:VEVENT
UID:caa48cfc-5ef9-11ee-8315-023bc3528a89
DTSTAMP:20230929T190251Z
SUMMARY:PAW Pre-Advising Week
LOCATION:Lafayette Campus - Health & Science Building Room 108 (1101 Bertra
 nd Dr.)
URL;VALUE=URI:https://www.solacc.edu/about-us/calendar/4811682/pre-advising
 -week
DTSTART:20231004T170000Z
DTEND:20231004T190000Z
END:VEVENT
END:VCALENDAR
